BEGIN:VCALENDAR
VERSION:2.0
PRODID:-//Wisconsin State Fair Park - ECPv6.15.17.1//NONSGML v1.0//EN
CALSCALE:GREGORIAN
METHOD:PUBLISH
X-WR-CALNAME:Wisconsin State Fair Park
X-ORIGINAL-URL:https://wistatefair.com/wsfp
X-WR-CALDESC:Events for Wisconsin State Fair Park
REFRESH-INTERVAL;VALUE=DURATION:PT1H
X-Robots-Tag:noindex
X-PUBLISHED-TTL:PT1H
BEGIN:VTIMEZONE
TZID:America/Chicago
BEGIN:DAYLIGHT
TZOFFSETFROM:-0600
TZOFFSETTO:-0500
TZNAME:CDT
DTSTART:20250309T080000
END:DAYLIGHT
BEGIN:STANDARD
TZOFFSETFROM:-0500
TZOFFSETTO:-0600
TZNAME:CST
DTSTART:20251102T070000
END:STANDARD
BEGIN:DAYLIGHT
TZOFFSETFROM:-0600
TZOFFSETTO:-0500
TZNAME:CDT
DTSTART:20260308T080000
END:DAYLIGHT
BEGIN:STANDARD
TZOFFSETFROM:-0500
TZOFFSETTO:-0600
TZNAME:CST
DTSTART:20261101T070000
END:STANDARD
BEGIN:DAYLIGHT
TZOFFSETFROM:-0600
TZOFFSETTO:-0500
TZNAME:CDT
DTSTART:20270314T080000
END:DAYLIGHT
BEGIN:STANDARD
TZOFFSETFROM:-0500
TZOFFSETTO:-0600
TZNAME:CST
DTSTART:20271107T070000
END:STANDARD
END:VTIMEZONE
BEGIN:VEVENT
DTSTART;VALUE=DATE:20260715
DTEND;VALUE=DATE:20260716
DTSTAMP:20260420T001109
CREATED:20210525T160850Z
LAST-MODIFIED:20260413T133059Z
UID:5432-1784073600-1784159999@wistatefair.com
SUMMARY:Cream Puff 5K
DESCRIPTION:Cream Puff 5K benefiting the Wisconsin State Fair Park FoundationRegister hereGet ready for the Annual Cream Puff 5K\, the sweetest run of the year\, which will take place on Wednesday\, June 25 at Wisconsin State Fair Park. Get sweet benefits like an admission ticket to the 2025 Wisconsin State Fair\, a cool T-shirt\, and more! \nSince 2016\, thousands of runners and walkers have enjoyed an evening at the Fair Park during the month prior to the beloved State Fair. The 5K run features a course that includes the famous Milwaukee Mile Speedway as well as streets within the Fair Park that look completely different before the Fair vendors and attractions move in. The event is both kid-and stroller-friendly\, offering a 1.5K walk in addition to the 5K route. Both routes end in front of the world-famous Cream Puff Pavilion with Original Cream Puffs for all participants. \nFor complete race details\, visit Cream Puff 5K (runsignup.com).
URL:https://wistatefair.com/wsfp/event/cream-puff-5k/
LOCATION:Wisconsin State Fair Park\, 640 S. 84th Street\, West Allis\, WI\, 53214\, United States
ATTACH;FMTTYPE=image/png:https://wistatefair.com/wsfp/wp-content/uploads/2026/04/26_WSFPF_CreamPuff_600x400_v1.png
ORGANIZER;CN="Wisconsin State Fair Park Foundation":MAILTO:foundation@wsfpfoundation.org
END:VEVENT
END:VCALENDAR