BEGIN:VCALENDAR
VERSION:2.0
PRODID:-//Wisconsin State Fair Park - ECPv6.15.17.1//NONSGML v1.0//EN
CALSCALE:GREGORIAN
METHOD:PUBLISH
X-WR-CALNAME:Wisconsin State Fair Park
X-ORIGINAL-URL:https://wistatefair.com/wsfp
X-WR-CALDESC:Events for Wisconsin State Fair Park
REFRESH-INTERVAL;VALUE=DURATION:PT1H
X-Robots-Tag:noindex
X-PUBLISHED-TTL:PT1H
BEGIN:VTIMEZONE
TZID:America/Chicago
BEGIN:DAYLIGHT
TZOFFSETFROM:-0600
TZOFFSETTO:-0500
TZNAME:CDT
DTSTART:20250309T080000
END:DAYLIGHT
BEGIN:STANDARD
TZOFFSETFROM:-0500
TZOFFSETTO:-0600
TZNAME:CST
DTSTART:20251102T070000
END:STANDARD
BEGIN:DAYLIGHT
TZOFFSETFROM:-0600
TZOFFSETTO:-0500
TZNAME:CDT
DTSTART:20260308T080000
END:DAYLIGHT
BEGIN:STANDARD
TZOFFSETFROM:-0500
TZOFFSETTO:-0600
TZNAME:CST
DTSTART:20261101T070000
END:STANDARD
BEGIN:DAYLIGHT
TZOFFSETFROM:-0600
TZOFFSETTO:-0500
TZNAME:CDT
DTSTART:20270314T080000
END:DAYLIGHT
BEGIN:STANDARD
TZOFFSETFROM:-0500
TZOFFSETTO:-0600
TZNAME:CST
DTSTART:20271107T070000
END:STANDARD
END:VTIMEZONE
BEGIN:VEVENT
DTSTART;VALUE=DATE:20260613
DTEND;VALUE=DATE:20260614
DTSTAMP:20260419T220803
CREATED:20211018T144857Z
LAST-MODIFIED:20260204T205205Z
UID:5794-1781308800-1781395199@wistatefair.com
SUMMARY:West Allis Stampede Featuring Next Level Pro-Bull Riding
DESCRIPTION:West Allis Stampede Featuring Next Level Pro-Bull RidingBUY TICKETS HERECome witness the ultimate showdown at the West Allis Stampede! Be prepared for heart-stopping action as Next Level Pro Bull Riding takes over. This event is a must-see for adrenaline junkies and rodeo fans alike. Get ready for a wild ride and experience the thrill of the real cowboy competition up close and personal. \nView Admission Prices here. \nEvent Dates & Times:\nSaturday\, June 13: 7pm -9pm\nGates open at 5pm \nPlease Note:\nThere may be a parking charge of $13 per vehicle or $10 per motorcycle to park at Wisconsin State Fair Park during any event. CREDIT CARD ONLY for onsite purchases. To purchase your parking in advance\, click here.
URL:https://wistatefair.com/wsfp/event/next-level-pro-bull-riding/
LOCATION:The Coliseum
ATTACH;FMTTYPE=image/png:https://wistatefair.com/wsfp/wp-content/uploads/2021/10/west-allis-stampede-804x500-1.png
ORGANIZER;CN="J&A Branded LLC":MAILTO:athomas3183@yahoo.com
END:VEVENT
BEGIN:VEVENT
DTSTART;VALUE=DATE:20260613
DTEND;VALUE=DATE:20260614
DTSTAMP:20260419T220803
CREATED:20211105T193706Z
LAST-MODIFIED:20260204T205155Z
UID:5847-1781308800-1781395199@wistatefair.com
SUMMARY:Brew City Banger
DESCRIPTION:Brew City BangerBuy TicketsBrew City Banger: Underground is taking over the Milwaukee Mile for an all-day drift event. From HIGH SPEED drifting to stunt shows to car show to vendors\, music\, and more. \nAnd this year… one lucky attendee is driving home in the Supercharged BRZ Drift Car. Every ticket holder has a shot to win. \nDrifting and Car Show participants can register here. Spectator tickets will be available soon. \nEvent Date & Time:\nSaturday\, June 13: 10am – 8:30pm \nPlease Note:\nThere is a parking charge of $13 per vehicle or $10 per motorcycle to park at Wisconsin State Fair Park during this event. CREDIT CARD ONLY for onsite purchases. To purchase your parking in advance\, click here.
URL:https://wistatefair.com/wsfp/event/brew-city-banger/
LOCATION:Milwaukee Mile\, 640 S 84th Street\, West Allis\, 53227
ATTACH;FMTTYPE=image/jpeg:https://wistatefair.com/wsfp/wp-content/uploads/2021/11/brewcity804x500.jpg
ORGANIZER;CN="Jackson David":MAILTO:jdavid@trackdaydirect.com
END:VEVENT
END:VCALENDAR